BEGIN:VCALENDAR
VERSION:2.0
PRODID:SchoolNow
CALSCALE:GREGORIAN
BEGIN:VEVENT
UID:a347ab22-2bf8-11ea-9e13-129758380d5f
DTSTAMP:20191231T180907Z
SUMMARY:Board Meeting Workshop - Sep. 2020
LOCATION:Heritage Isles Clubhouse Library\, 10630 Plantation Bay Drive\, Ta
 mpa\, Florida 33647
URL;VALUE=URI:https://www.heritageislescdd.org/calendar/2168238/board-meeti
 ng-workshop-sep-2020
DTSTART:20200902T223000Z
DTEND:20200902T233000Z
END:VEVENT
END:VCALENDAR
