BEGIN:VCALENDAR
VERSION:2.0
PRODID:SchoolNow
CALSCALE:GREGORIAN
BEGIN:VEVENT
UID:afac4dc8-2bf8-11ea-b239-129758380d5f
DTSTAMP:20200916T160726Z
SUMMARY:Board Meeting - Sep. 2020
LOCATION:Meeting URL: https://us02web.zoom.us/j/81605350217 Meeting ID: 816
  0535 0217 Phone in number: (929) 436-2866
URL;VALUE=URI:https://www.heritageislescdd.org/calendar/2168239/board-meeti
 ng-sep-2020
DTSTART:20200916T223000Z
DTEND:20200916T233000Z
ATTACH;FILENAME=2020-09-16  Agend Pkg Final.pdf;FMTTYPE=application/pdf:htt
 ps://campussuite-storage.s3.amazonaws.com/prod/1558948/a3d1cd94-f056-11e9-
 8ca0-12606da399aa/2159308/bbefb4e2-f832-11ea-b8f8-129c6e32a5ed/file/2020-0
 9-16  Agend Pkg Final.pdf
END:VEVENT
END:VCALENDAR
