BEGIN:VCALENDAR
VERSION:2.0
PRODID:SchoolNow
CALSCALE:GREGORIAN
BEGIN:VEVENT
UID:d64be8b4-fd06-11ea-b990-12301a238921
DTSTAMP:20201014T233606Z
SUMMARY:Board Meeting - Oct. 2020
LOCATION:Meeting URL: https://us02web.zoom.us/j/89475084510 Meeting ID: 894
  7508 4510 Phone in number: (929) 436-2866 Passcode: 974924
URL;VALUE=URI:https://www.heritageislescdd.org/calendar/2376679/board-meeti
 ng-oct-2020
DTSTART:20201021T223000Z
DTEND:20201021T233000Z
ATTACH;FILENAME=2020-10-21 Heritage Isles Agenda Package.pdf;FMTTYPE=applic
 ation/pdf:https://campussuite-storage.s3.amazonaws.com/prod/1558948/a3d1cd
 94-f056-11e9-8ca0-12606da399aa/2171975/daaefa06-0e75-11eb-b734-0acc900945b
 3/file/2020-10-21 Heritage Isles Agenda Package.pdf
END:VEVENT
END:VCALENDAR
