BEGIN:VCALENDAR
VERSION:2.0
PRODID:SchoolNow
CALSCALE:GREGORIAN
BEGIN:VEVENT
UID:4fc2d13a-fd07-11ea-8da9-0a0b1f6148df
DTSTAMP:20201116T143213Z
SUMMARY:Board Meeting - Nov. 2020
LOCATION:Heritage Isles Clubhouse Library\, 10630 Plantation Bay Drive\, Ta
 mpa\, Florida 33647
URL;VALUE=URI:https://www.heritageislescdd.org/calendar/2376680/board-meeti
 ng-nov-2020
DTSTART:20201118T233000Z
DTEND:20201119T003000Z
ATTACH;FILENAME=2020-11-18 bagenda.packagerev2x.pdf;FMTTYPE=application/pdf
 :https://campussuite-storage.s3.amazonaws.com/prod/1558948/a3d1cd94-f056-1
 1e9-8ca0-12606da399aa/2184454/7fe61142-2818-11eb-8473-0a373c25aeb5/file/20
 20-11-18 bagenda.packagerev2x.pdf
END:VEVENT
END:VCALENDAR
