BEGIN:VCALENDAR
VERSION:2.0
PRODID:SchoolNow
CALSCALE:GREGORIAN
BEGIN:VEVENT
UID:64df5188-fd07-11ea-9c2b-0a0b1f6148df
DTSTAMP:20201210T001958Z
SUMMARY:Board Meeting - Dec. 2020 - CANCELLED
LOCATION:Heritage Isles Clubhouse Library\, 10630 Plantation Bay Drive\, Ta
 mpa\, Florida 33647
URL;VALUE=URI:https://www.heritageislescdd.org/calendar/2376681/board-meeti
 ng-dec-2020-cancelled
DTSTART:20201216T233000Z
DTEND:20201217T003000Z
END:VEVENT
END:VCALENDAR
