BEGIN:VCALENDAR
VERSION:2.0
PRODID:SchoolNow
CALSCALE:GREGORIAN
BEGIN:VEVENT
UID:7234d60a-fd07-11ea-aa4a-0a0b1f6148df
DTSTAMP:20200922T191141Z
SUMMARY:Board Meeting - Jan. 2021
LOCATION:Heritage Isles Clubhouse Library\, 10630 Plantation Bay Drive\, Ta
 mpa\, Florida 33647
URL;VALUE=URI:https://www.heritageislescdd.org/calendar/2376682/board-meeti
 ng-jan-2021
DTSTART:20210120T233000Z
DTEND:20210121T003000Z
END:VEVENT
END:VCALENDAR
