BEGIN:VCALENDAR
VERSION:2.0
PRODID:SchoolNow
CALSCALE:GREGORIAN
BEGIN:VEVENT
UID:16896bf8-fd08-11ea-805c-0a8e3cd07a0b
DTSTAMP:20210217T175602Z
SUMMARY:Board Meeting - Feb. 2021
LOCATION:Heritage Isles Clubhouse Library\, 10630 Plantation Bay Drive\, Ta
 mpa\, Florida 33647
URL;VALUE=URI:https://www.heritageislescdd.org/calendar/2376683/board-meeti
 ng-feb-2021
DTSTART:20210217T233000Z
DTEND:20210218T003000Z
ATTACH;FILENAME=2021-02-17 Heritage Isles Agenda Package.pdf;FMTTYPE=applic
 ation/pdf:https://campussuite-storage.s3.amazonaws.com/prod/1558948/a3d1cd
 94-f056-11e9-8ca0-12606da399aa/2227984/60382eaa-7149-11eb-a21a-02865ea1ad1
 3/file/2021-02-17 Heritage Isles Agenda Package.pdf
END:VEVENT
END:VCALENDAR
