BEGIN:VCALENDAR
VERSION:2.0
PRODID:SchoolNow
CALSCALE:GREGORIAN
BEGIN:VEVENT
UID:21aacc98-fd08-11ea-94e8-0a8e3cd07a0b
DTSTAMP:20210506T043042Z
SUMMARY:Board Meeting - Mar. 2021
LOCATION:Heritage Isles Clubhouse Library\, 10630 Plantation Bay Drive\, Ta
 mpa\, Florida 33647
URL;VALUE=URI:https://www.heritageislescdd.org/calendar/2376684/board-meeti
 ng-mar-2021
DTSTART:20210317T223000Z
DTEND:20210317T233000Z
ATTACH;FILENAME=2021-03-17 Heritage Isles Agenda Package.pdf;FMTTYPE=applic
 ation/pdf:https://campussuite-storage.s3.amazonaws.com/prod/1558948/a3d1cd
 94-f056-11e9-8ca0-12606da399aa/2259863/ba8f9214-ae23-11eb-a663-0231e01449d
 5/file/2021-03-17 Heritage Isles Agenda Package.pdf
END:VEVENT
END:VCALENDAR
