BEGIN:VCALENDAR
VERSION:2.0
PRODID:SchoolNow
CALSCALE:GREGORIAN
BEGIN:VEVENT
UID:2f417fa0-fd08-11ea-9cff-0a8e3cd07a0b
DTSTAMP:20210506T043454Z
SUMMARY:Board Meeting - Apr. 2021
LOCATION:Heritage Isles Clubhouse Library\, 10630 Plantation Bay Drive\, Ta
 mpa\, Florida 33647
URL;VALUE=URI:https://www.heritageislescdd.org/calendar/2376685/board-meeti
 ng-apr-2021
DTSTART:20210421T223000Z
DTEND:20210421T233000Z
ATTACH;FILENAME=2021-04-21 Heritage Isles Agenda Package.pdf;FMTTYPE=applic
 ation/pdf:https://campussuite-storage.s3.amazonaws.com/prod/1558948/a3d1cd
 94-f056-11e9-8ca0-12606da399aa/2259864/4e554822-ae24-11eb-ab91-0231e01449d
 5/file/2021-04-21 Heritage Isles Agenda Package.pdf
END:VEVENT
END:VCALENDAR
