BEGIN:VCALENDAR
VERSION:2.0
PRODID:SchoolNow
CALSCALE:GREGORIAN
BEGIN:VEVENT
UID:8f3abe04-fd0c-11ea-850e-0a0b1f6148df
DTSTAMP:20200922T194817Z
SUMMARY:Board Meeting Workshop - Oct. 2020
LOCATION:Heritage Isles Clubhouse Library\, 10630 Plantation Bay Drive\, Ta
 mpa\, Florida 33647
URL;VALUE=URI:https://www.heritageislescdd.org/calendar/2376983/board-meeti
 ng-workshop-oct-2020
DTSTART:20201007T223000Z
DTEND:20201007T233000Z
END:VEVENT
END:VCALENDAR
