BEGIN:VCALENDAR
VERSION:2.0
PRODID:SchoolNow
CALSCALE:GREGORIAN
BEGIN:VEVENT
UID:a6acb6dc-fd0c-11ea-80ca-0a0b1f6148df
DTSTAMP:20200922T194856Z
SUMMARY:Board Meeting Workshop - Dec. 2020
LOCATION:Heritage Isles Clubhouse Library\, 10630 Plantation Bay Drive\, Ta
 mpa\, Florida 33647
URL;VALUE=URI:https://www.heritageislescdd.org/calendar/2376985/board-meeti
 ng-workshop-dec-2020
DTSTART:20201202T233000Z
DTEND:20201203T003000Z
END:VEVENT
END:VCALENDAR
