BEGIN:VCALENDAR
VERSION:2.0
PRODID:SchoolNow
CALSCALE:GREGORIAN
BEGIN:VEVENT
UID:b3611d5a-fd0c-11ea-9278-0a0b1f6148df
DTSTAMP:20200922T194917Z
SUMMARY:Board Meeting Workshop - Jan. 2021
LOCATION:Heritage Isles Clubhouse Library\, 10630 Plantation Bay Drive\, Ta
 mpa\, Florida 33647
URL;VALUE=URI:https://www.heritageislescdd.org/calendar/2376986/board-meeti
 ng-workshop-jan-2021
DTSTART:20210106T233000Z
DTEND:20210107T003000Z
END:VEVENT
END:VCALENDAR
