BEGIN:VCALENDAR
VERSION:2.0
PRODID:SchoolNow
CALSCALE:GREGORIAN
BEGIN:VEVENT
UID:c9811072-fd0c-11ea-a84e-0a0b1f6148df
DTSTAMP:20200922T194955Z
SUMMARY:Board Meeting Workshop - Mar. 2021
LOCATION:Heritage Isles Clubhouse Library\, 10630 Plantation Bay Drive\, Ta
 mpa\, Florida 33647
URL;VALUE=URI:https://www.heritageislescdd.org/calendar/2376988/board-meeti
 ng-workshop-mar-2021
DTSTART:20210303T233000Z
DTEND:20210304T003000Z
END:VEVENT
END:VCALENDAR
