BEGIN:VCALENDAR
VERSION:2.0
PRODID:SchoolNow
CALSCALE:GREGORIAN
BEGIN:VEVENT
UID:3553e0de-44bb-11ed-b54f-0e6c076d98d3
DTSTAMP:20221013T194334Z
SUMMARY:Board Meeting - Oct. 2022
LOCATION:Heritage Isles Clubhouse Library\, 10630 Plantation Bay Drive\, Ta
 mpa\, Florida 33647
URL;VALUE=URI:https://www.heritageislescdd.org/calendar/3485469/board-meeti
 ng-oct-2022
DTSTART:20221019T223000Z
DTEND:20221019T233000Z
ATTACH;FILENAME=2022-10-19_Heritage_Isles_Agenda_Pkg.pdf;FMTTYPE=applicatio
 n/pdf:https://campussuite-storage.s3.amazonaws.com/prod/1558948/a3d1cd94-f
 056-11e9-8ca0-12606da399aa/2491359/4c5a3fba-4b2f-11ed-9a9f-020a041c36d3/fi
 le/2022-10-19_Heritage_Isles_Agenda_Pkg.pdf
END:VEVENT
END:VCALENDAR
