BEGIN:VCALENDAR
VERSION:2.0
PRODID:SchoolNow
CALSCALE:GREGORIAN
BEGIN:VEVENT
UID:410f675e-44bb-11ed-b117-0e6c076d98d3
DTSTAMP:20221115T212706Z
SUMMARY:Board Meeting - Nov. 2022
LOCATION:Heritage Isles Clubhouse Library\, 10630 Plantation Bay Drive\, Ta
 mpa\, Florida 33647
URL;VALUE=URI:https://www.heritageislescdd.org/calendar/3485470/board-meeti
 ng-nov-2022
DTSTART:20221116T233000Z
DTEND:20221117T003000Z
ATTACH;FILENAME=2022-11-16_Heritage_Isles_Agenda_Pkg.pdf;FMTTYPE=applicatio
 n/pdf:https://campussuite-storage.s3.amazonaws.com/prod/1558948/a3d1cd94-f
 056-11e9-8ca0-12606da399aa/2510789/3ae5244a-652c-11ed-b47a-0ed93a6e2535/fi
 le/2022-11-16_Heritage_Isles_Agenda_Pkg.pdf
END:VEVENT
END:VCALENDAR
