BEGIN:VCALENDAR
VERSION:2.0
PRODID:SchoolNow
CALSCALE:GREGORIAN
BEGIN:VEVENT
UID:5cc5ed42-44bb-11ed-8603-0e6c076d98d3
DTSTAMP:20230118T174709Z
SUMMARY:Board Meeting - Jan. 2023
LOCATION:Heritage Isles Clubhouse Library\, 10630 Plantation Bay Drive\, Ta
 mpa\, Florida 33647
URL;VALUE=URI:https://www.heritageislescdd.org/calendar/3485472/board-meeti
 ng-jan-2023
DTSTART:20230118T233000Z
DTEND:20230119T003000Z
ATTACH;FILENAME=2023-01-18 Heritage Isles Agenda Pkg.pdf;FMTTYPE=applicatio
 n/pdf:https://campussuite-storage.s3.amazonaws.com/prod/1558948/a3d1cd94-f
 056-11e9-8ca0-12606da399aa/2537997/1dd18520-9758-11ed-a234-0e01f20d6da5/fi
 le/2023-01-18 Heritage Isles Agenda Pkg.pdf
END:VEVENT
END:VCALENDAR
