BEGIN:VCALENDAR
VERSION:2.0
PRODID:SchoolNow
CALSCALE:GREGORIAN
BEGIN:VEVENT
UID:68f7018c-44bb-11ed-8f24-0e6c076d98d3
DTSTAMP:20230216T104746Z
SUMMARY:Board Meeting - Feb. 2023
LOCATION:Heritage Isles Clubhouse Library\, 10630 Plantation Bay Drive\, Ta
 mpa\, Florida 33647
URL;VALUE=URI:https://www.heritageislescdd.org/calendar/3485473/board-meeti
 ng-feb-2023
DTSTART:20230215T233000Z
DTEND:20230216T003000Z
ATTACH;FILENAME=2023-02-15 Heritage Isles agenda pkg.pdf;FMTTYPE=applicatio
 n/pdf:https://campussuite-storage.s3.amazonaws.com/prod/1558948/a3d1cd94-f
 056-11e9-8ca0-12606da399aa/2552431/5609e216-ade7-11ed-8d09-025cb2ed80c1/fi
 le/2023-02-15 Heritage Isles agenda pkg.pdf
END:VEVENT
END:VCALENDAR
