BEGIN:VCALENDAR
VERSION:2.0
PRODID:SchoolNow
CALSCALE:GREGORIAN
BEGIN:VEVENT
UID:73551b46-44bb-11ed-ac75-0e6c076d98d3
DTSTAMP:20230427T162952Z
SUMMARY:Board Meeting - Mar. 2023
LOCATION:Heritage Isles Clubhouse Library\, 10630 Plantation Bay Drive\, Ta
 mpa\, Florida 33647
URL;VALUE=URI:https://www.heritageislescdd.org/calendar/3485474/board-meeti
 ng-mar-2023
DTSTART:20230315T223000Z
DTEND:20230315T233000Z
ATTACH;FILENAME=2023-03-15 Heritage Isles agenda pkg.pdf;FMTTYPE=applicatio
 n/pdf:https://campussuite-storage.s3.amazonaws.com/prod/1558948/a3d1cd94-f
 056-11e9-8ca0-12606da399aa/2584756/b6c0f0aa-e518-11ed-bd66-0e0e83a3f529/fi
 le/2023-03-15 Heritage Isles agenda pkg.pdf
END:VEVENT
END:VCALENDAR
