BEGIN:VCALENDAR
VERSION:2.0
PRODID:SchoolNow
CALSCALE:GREGORIAN
BEGIN:VEVENT
UID:7e43a50e-44bb-11ed-8f6d-0e6c076d98d3
DTSTAMP:20230425T205758Z
SUMMARY:Board Meeting - Apr. 2023
LOCATION:Heritage Isles Clubhouse Library\, 10630 Plantation Bay Drive\, Ta
 mpa\, Florida 33647
URL;VALUE=URI:https://www.heritageislescdd.org/calendar/3485475/board-meeti
 ng-apr-2023
DTSTART:20230419T223000Z
DTEND:20230419T233000Z
ATTACH;FILENAME=2023-04-19 Heritage Isles agenda pkg vega.pdf;FMTTYPE=appli
 cation/pdf:https://campussuite-storage.s3.amazonaws.com/prod/1558948/a3d1c
 d94-f056-11e9-8ca0-12606da399aa/2583910/d95f6b32-e3ab-11ed-b01a-02aebfe4ab
 d9/file/2023-04-19 Heritage Isles agenda pkg vega.pdf
END:VEVENT
END:VCALENDAR
