BEGIN:VCALENDAR
VERSION:2.0
PRODID:SchoolNow
CALSCALE:GREGORIAN
BEGIN:VEVENT
UID:88534b44-44bb-11ed-9b0d-0e6c076d98d3
DTSTAMP:20230510T200944Z
SUMMARY:Board Meeting - May 2023
LOCATION:Heritage Isles Clubhouse Library\, 10630 Plantation Bay Drive\, Ta
 mpa\, Florida 33647
URL;VALUE=URI:https://www.heritageislescdd.org/calendar/3485476/board-meeti
 ng-may-2023
DTSTART:20230517T223000Z
DTEND:20230517T233000Z
ATTACH;FILENAME=2023-05-17 Heritage Isles agenda pkg.pdf;FMTTYPE=applicatio
 n/pdf:https://campussuite-storage.s3.amazonaws.com/prod/1558948/a3d1cd94-f
 056-11e9-8ca0-12606da399aa/2591253/974ef6da-ef6e-11ed-be6a-0a6d6d9cba31/fi
 le/2023-05-17 Heritage Isles agenda pkg.pdf
END:VEVENT
END:VCALENDAR
