BEGIN:VCALENDAR
VERSION:2.0
PRODID:SchoolNow
CALSCALE:GREGORIAN
BEGIN:VEVENT
UID:928d53c0-44bb-11ed-9ae9-0e6c076d98d3
DTSTAMP:20230614T201208Z
SUMMARY:Board Meeting - Jun. 2023
LOCATION:Heritage Isles Clubhouse Library\, 10630 Plantation Bay Drive\, Ta
 mpa\, Florida 33647
URL;VALUE=URI:https://www.heritageislescdd.org/calendar/3485477/board-meeti
 ng-jun-2023
DTSTART:20230621T223000Z
DTEND:20230621T233000Z
ATTACH;FILENAME=2023-06-21 Heritage Isles agenda package.pdf;FMTTYPE=applic
 ation/pdf:https://campussuite-storage.s3.amazonaws.com/prod/1558948/a3d1cd
 94-f056-11e9-8ca0-12606da399aa/2614195/b9722204-0aef-11ee-a9ac-0243d8b697e
 3/file/2023-06-21 Heritage Isles agenda package.pdf
END:VEVENT
END:VCALENDAR
