BEGIN:VCALENDAR
VERSION:2.0
PRODID:SchoolNow
CALSCALE:GREGORIAN
BEGIN:VEVENT
UID:9dbcd130-44bb-11ed-ba87-0e6c076d98d3
DTSTAMP:20230718T160405Z
SUMMARY:Board Meeting - Jul. 2023
LOCATION:Heritage Isles Clubhouse Library\, 10630 Plantation Bay Drive\, Ta
 mpa\, Florida 33647
URL;VALUE=URI:https://www.heritageislescdd.org/calendar/3485478/board-meeti
 ng-jul-2023
DTSTART:20230719T223000Z
DTEND:20230719T233000Z
ATTACH;FILENAME=2023-07-19 Heritage Isles agenda pack.pdf;FMTTYPE=applicati
 on/pdf:https://campussuite-storage.s3.amazonaws.com/prod/1558948/a3d1cd94-
 f056-11e9-8ca0-12606da399aa/2630983/b3e31316-2584-11ee-8487-0a58a9feac02/f
 ile/2023-07-19 Heritage Isles agenda pack.pdf
END:VEVENT
END:VCALENDAR
