BEGIN:VCALENDAR
VERSION:2.0
PRODID:SchoolNow
CALSCALE:GREGORIAN
BEGIN:VEVENT
UID:a88bc274-44bb-11ed-b92b-0e6c076d98d3
DTSTAMP:20230815T191636Z
SUMMARY:Board Meeting - Aug. 2023
LOCATION:Heritage Isles Clubhouse Library\, 10630 Plantation Bay Drive\, Ta
 mpa\, Florida 33647
URL;VALUE=URI:https://www.heritageislescdd.org/calendar/3485479/board-meeti
 ng-aug-2023
DTSTART:20230816T223000Z
DTEND:20230816T233000Z
ATTACH;FILENAME=2023-08-16  Heritage Isles rev agenda pkg.pdf;FMTTYPE=appli
 cation/pdf:https://campussuite-storage.s3.amazonaws.com/prod/1558948/a3d1c
 d94-f056-11e9-8ca0-12606da399aa/2643170/3e64cb98-3ba0-11ee-933f-0a58a9feac
 02/file/2023-08-16  Heritage Isles rev agenda pkg.pdf
END:VEVENT
END:VCALENDAR
