BEGIN:VCALENDAR
VERSION:2.0
PRODID:SchoolNow
CALSCALE:GREGORIAN
BEGIN:VEVENT
UID:b29ac67a-44bb-11ed-a60b-0e6c076d98d3
DTSTAMP:20230920T150343Z
SUMMARY:Board Meeting - Sept. 2023
LOCATION:Heritage Isles Clubhouse Library\, 10630 Plantation Bay Drive\, Ta
 mpa\, Florida 33647
URL;VALUE=URI:https://www.heritageislescdd.org/calendar/3485480/board-meeti
 ng-sept-2023
DTSTART:20230920T223000Z
DTEND:20230920T233000Z
ATTACH;FILENAME=2023-09-20 Heritage Isles.agenda.package.pdf;FMTTYPE=applic
 ation/pdf:https://campussuite-storage.s3.amazonaws.com/prod/1558948/a3d1cd
 94-f056-11e9-8ca0-12606da399aa/2664815/d9ed1876-57c6-11ee-9621-0a58a9feac0
 2/file/2023-09-20 Heritage Isles.agenda.package.pdf
END:VEVENT
END:VCALENDAR
