BEGIN:VCALENDAR
VERSION:2.0
PRODID:SchoolNow
CALSCALE:GREGORIAN
BEGIN:VEVENT
UID:d43f39aa-44bb-11ed-97e1-0e6c076d98d3
DTSTAMP:20221005T144142Z
SUMMARY:Board Meeting Workshop  - Oct. 2022
LOCATION:Heritage Isles Clubhouse Library\, 10630 Plantation Bay Drive\, Ta
 mpa\, Florida 33647
URL;VALUE=URI:https://www.heritageislescdd.org/calendar/3485481/board-meeti
 ng-workshop-oct-2022
DTSTART:20221005T223000Z
DTEND:20221005T233000Z
END:VEVENT
END:VCALENDAR
