BEGIN:VCALENDAR
VERSION:2.0
PRODID:SchoolNow
CALSCALE:GREGORIAN
BEGIN:VEVENT
UID:dfac244c-44bb-11ed-b6a4-0e6c076d98d3
DTSTAMP:20221005T144202Z
SUMMARY:Board Meeting Workshop  - Nov. 2022
LOCATION:Heritage Isles Clubhouse Library\, 10630 Plantation Bay Drive\, Ta
 mpa\, Florida 33647
URL;VALUE=URI:https://www.heritageislescdd.org/calendar/3485482/board-meeti
 ng-workshop-nov-2022
DTSTART:20221102T223000Z
DTEND:20221102T233000Z
END:VEVENT
END:VCALENDAR
