BEGIN:VCALENDAR
VERSION:2.0
PRODID:SchoolNow
CALSCALE:GREGORIAN
BEGIN:VEVENT
UID:f6da0d3c-44bb-11ed-827e-0e6c076d98d3
DTSTAMP:20221005T144240Z
SUMMARY:Board Meeting Workshop  - Jan. 2023
LOCATION:Heritage Isles Clubhouse Library\, 10630 Plantation Bay Drive\, Ta
 mpa\, Florida 33647
URL;VALUE=URI:https://www.heritageislescdd.org/calendar/3485484/board-meeti
 ng-workshop-jan-2023
DTSTART:20230104T233000Z
DTEND:20230105T003000Z
END:VEVENT
END:VCALENDAR
