BEGIN:VCALENDAR
VERSION:2.0
PRODID:SchoolNow
CALSCALE:GREGORIAN
BEGIN:VEVENT
UID:0e0b2bbc-44bc-11ed-93e0-0e6c076d98d3
DTSTAMP:20221005T144319Z
SUMMARY:Board Meeting Workshop  - Feb. 2023
LOCATION:Heritage Isles Clubhouse Library\, 10630 Plantation Bay Drive\, Ta
 mpa\, Florida 33647
URL;VALUE=URI:https://www.heritageislescdd.org/calendar/3485485/board-meeti
 ng-workshop-feb-2023
DTSTART:20230201T233000Z
DTEND:20230202T003000Z
END:VEVENT
END:VCALENDAR
