BEGIN:VCALENDAR
VERSION:2.0
PRODID:SchoolNow
CALSCALE:GREGORIAN
BEGIN:VEVENT
UID:1c0a0ab2-44bc-11ed-b654-0e6c076d98d3
DTSTAMP:20221005T144343Z
SUMMARY:Board Meeting Workshop  - Mar. 2023
LOCATION:Heritage Isles Clubhouse Library\, 10630 Plantation Bay Drive\, Ta
 mpa\, Florida 33647
URL;VALUE=URI:https://www.heritageislescdd.org/calendar/3485486/board-meeti
 ng-workshop-mar-2023
DTSTART:20230301T233000Z
DTEND:20230302T003000Z
END:VEVENT
END:VCALENDAR
