BEGIN:VCALENDAR
VERSION:2.0
PRODID:SchoolNow
CALSCALE:GREGORIAN
BEGIN:VEVENT
UID:295ce9dc-44bc-11ed-839d-0e6c076d98d3
DTSTAMP:20230328T124412Z
SUMMARY:Board Meeting Workshop  - Apr. 2023
LOCATION:Heritage Isles Clubhouse Library\, 10630 Plantation Bay Drive\, Ta
 mpa\, Florida 33647
URL;VALUE=URI:https://www.heritageislescdd.org/calendar/3485487/board-meeti
 ng-workshop-apr-2023
DTSTART:20230405T223000Z
DTEND:20230405T233000Z
END:VEVENT
END:VCALENDAR
