BEGIN:VCALENDAR
VERSION:2.0
PRODID:SchoolNow
CALSCALE:GREGORIAN
BEGIN:VEVENT
UID:365539aa-44bc-11ed-920f-0e6c076d98d3
DTSTAMP:20221005T144427Z
SUMMARY:Board Meeting Workshop  - May 2023
LOCATION:Heritage Isles Clubhouse Library\, 10630 Plantation Bay Drive\, Ta
 mpa\, Florida 33647
URL;VALUE=URI:https://www.heritageislescdd.org/calendar/3485488/board-meeti
 ng-workshop-may-2023
DTSTART:20230503T223000Z
DTEND:20230503T233000Z
END:VEVENT
END:VCALENDAR
