BEGIN:VCALENDAR
VERSION:2.0
PRODID:SchoolNow
CALSCALE:GREGORIAN
BEGIN:VEVENT
UID:52ca4a1c-44bc-11ed-9296-0e6c076d98d3
DTSTAMP:20221005T144515Z
SUMMARY:Board Meeting Workshop  - Jul. 2023
LOCATION:Heritage Isles Clubhouse Library\, 10630 Plantation Bay Drive\, Ta
 mpa\, Florida 33647
URL;VALUE=URI:https://www.heritageislescdd.org/calendar/3485490/board-meeti
 ng-workshop-jul-2023
DTSTART:20230705T223000Z
DTEND:20230705T233000Z
END:VEVENT
END:VCALENDAR
