BEGIN:VCALENDAR
VERSION:2.0
PRODID:SchoolNow
CALSCALE:GREGORIAN
BEGIN:VEVENT
UID:5e39a758-44bc-11ed-8ec5-0e6c076d98d3
DTSTAMP:20221005T144534Z
SUMMARY:Board Meeting Workshop  - Aug. 2023
LOCATION:Heritage Isles Clubhouse Library\, 10630 Plantation Bay Drive\, Ta
 mpa\, Florida 33647
URL;VALUE=URI:https://www.heritageislescdd.org/calendar/3485491/board-meeti
 ng-workshop-aug-2023
DTSTART:20230802T223000Z
DTEND:20230802T233000Z
END:VEVENT
END:VCALENDAR
