BEGIN:VCALENDAR
VERSION:2.0
PRODID:SchoolNow
CALSCALE:GREGORIAN
BEGIN:VEVENT
UID:69278126-44bc-11ed-bd7f-0e6c076d98d3
DTSTAMP:20221005T144552Z
SUMMARY:Board Meeting Workshop  - Sept. 2023
LOCATION:Heritage Isles Clubhouse Library\, 10630 Plantation Bay Drive\, Ta
 mpa\, Florida 33647
URL;VALUE=URI:https://www.heritageislescdd.org/calendar/3485492/board-meeti
 ng-workshop-sept-2023
DTSTART:20230906T223000Z
DTEND:20230906T233000Z
END:VEVENT
END:VCALENDAR
