BEGIN:VCALENDAR
VERSION:2.0
PRODID:SchoolNow
CALSCALE:GREGORIAN
BEGIN:VEVENT
UID:7fe37282-57ce-11ee-bb22-0a58a9feac02
DTSTAMP:20231014T231549Z
SUMMARY:Board Meeting - Oct. 2023
LOCATION:Heritage Isles Clubhouse Library\, 10630 Plantation Bay Drive\, Ta
 mpa\, Florida 33647
URL;VALUE=URI:https://www.heritageislescdd.org/calendar/4766399/board-meeti
 ng-oct-2023
DTSTART:20231018T223000Z
DTEND:20231018T233000Z
ATTACH;FILENAME=2023-10-18 Heritage Isles agenda.pdf;FMTTYPE=application/pd
 f:https://campussuite-storage.s3.amazonaws.com/prod/1558948/a3d1cd94-f056-
 11e9-8ca0-12606da399aa/2680983/98deba40-6ae7-11ee-bf0b-02af57988a07/file/2
 023-10-18 Heritage Isles agenda.pdf
END:VEVENT
END:VCALENDAR
