BEGIN:VCALENDAR
VERSION:2.0
PRODID:SchoolNow
CALSCALE:GREGORIAN
BEGIN:VEVENT
UID:8aafd6a6-57ce-11ee-aa60-0ea8776c1f05
DTSTAMP:20231115T231825Z
SUMMARY:Board Meeting - Nov. 2023
LOCATION:Heritage Isles Clubhouse Library\, 10630 Plantation Bay Drive\, Ta
 mpa\, Florida 33647
URL;VALUE=URI:https://www.heritageislescdd.org/calendar/4766400/board-meeti
 ng-nov-2023
DTSTART:20231115T233000Z
DTEND:20231116T003000Z
ATTACH;FILENAME=2023-11-15 Heritage Isles rev agenda package.pdf;FMTTYPE=ap
 plication/pdf:https://campussuite-storage.s3.amazonaws.com/prod/1558948/a3
 d1cd94-f056-11e9-8ca0-12606da399aa/2701543/43ef59ec-840d-11ee-9a12-0ed6246
 1c9d5/file/2023-11-15 Heritage Isles rev agenda package.pdf
END:VEVENT
END:VCALENDAR
