BEGIN:VCALENDAR
VERSION:2.0
PRODID:SchoolNow
CALSCALE:GREGORIAN
BEGIN:VEVENT
UID:97185f80-57ce-11ee-ab62-0a58a9feac02
DTSTAMP:20231220T211157Z
SUMMARY:Board Meeting - Dec. 2023
LOCATION:Heritage Isles Clubhouse Library\, 10630 Plantation Bay Drive\, Ta
 mpa\, Florida 33647
URL;VALUE=URI:https://www.heritageislescdd.org/calendar/4766401/board-meeti
 ng-dec-2023
DTSTART:20231220T233000Z
DTEND:20231221T003000Z
ATTACH;FILENAME=2023-12-20  Heritage Isles agenda.pdf;FMTTYPE=application/p
 df:https://campussuite-storage.s3.amazonaws.com/prod/1558948/a3d1cd94-f056
 -11e9-8ca0-12606da399aa/2717508/6009c88a-9f7c-11ee-83b3-0a58a9feac02/file/
 2023-12-20  Heritage Isles agenda.pdf
END:VEVENT
END:VCALENDAR
