BEGIN:VCALENDAR
VERSION:2.0
PRODID:SchoolNow
CALSCALE:GREGORIAN
BEGIN:VEVENT
UID:a27e4074-57ce-11ee-be4c-0a959632f283
DTSTAMP:20240117T172220Z
SUMMARY:Board Meeting - Jan. 2024
LOCATION:Heritage Isles Clubhouse Library\, 10630 Plantation Bay Drive\, Ta
 mpa\, Florida 33647
URL;VALUE=URI:https://www.heritageislescdd.org/calendar/4766403/board-meeti
 ng-jan-2024
DTSTART:20240117T233000Z
DTEND:20240118T003000Z
ATTACH;FILENAME=2024-01-17 Heritage Isles agenda package.pdf;FMTTYPE=applic
 ation/pdf:https://campussuite-storage.s3.amazonaws.com/prod/1558948/a3d1cd
 94-f056-11e9-8ca0-12606da399aa/2726569/f2389ba0-b55c-11ee-ad15-0a58a9feac0
 2/file/2024-01-17 Heritage Isles agenda package.pdf
END:VEVENT
END:VCALENDAR
