BEGIN:VCALENDAR
VERSION:2.0
PRODID:SchoolNow
CALSCALE:GREGORIAN
BEGIN:VEVENT
UID:1f163218-57cf-11ee-b08e-0e6120933f63
DTSTAMP:20230920T160238Z
SUMMARY:Board Meeting Workshop  - Oct. 2023
LOCATION:Heritage Isles Clubhouse Library\, 10630 Plantation Bay Drive\, Ta
 mpa\, Florida 33647
URL;VALUE=URI:https://www.heritageislescdd.org/calendar/4766412/board-meeti
 ng-workshop-oct-2023
DTSTART:20231004T223000Z
DTEND:20231004T233000Z
END:VEVENT
END:VCALENDAR
