BEGIN:VCALENDAR
VERSION:2.0
PRODID:SchoolNow
CALSCALE:GREGORIAN
BEGIN:VEVENT
UID:28c8f494-57cf-11ee-87ff-0a58a9feac02
DTSTAMP:20230920T160254Z
SUMMARY:Board Meeting Workshop  - Nov. 2023
LOCATION:Heritage Isles Clubhouse Library\, 10630 Plantation Bay Drive\, Ta
 mpa\, Florida 33647
URL;VALUE=URI:https://www.heritageislescdd.org/calendar/4766413/board-meeti
 ng-workshop-nov-2023
DTSTART:20231101T223000Z
DTEND:20231101T233000Z
END:VEVENT
END:VCALENDAR
