BEGIN:VCALENDAR
VERSION:2.0
PRODID:SchoolNow
CALSCALE:GREGORIAN
BEGIN:VEVENT
UID:310cc3ce-57cf-11ee-8e66-0ae2a935c3d5
DTSTAMP:20230920T160308Z
SUMMARY:Board Meeting Workshop  - Dec. 2023
LOCATION:Heritage Isles Clubhouse Library\, 10630 Plantation Bay Drive\, Ta
 mpa\, Florida 33647
URL;VALUE=URI:https://www.heritageislescdd.org/calendar/4766414/board-meeti
 ng-workshop-dec-2023
DTSTART:20231206T233000Z
DTEND:20231207T003000Z
END:VEVENT
END:VCALENDAR
