BEGIN:VCALENDAR
VERSION:2.0
PRODID:SchoolNow
CALSCALE:GREGORIAN
BEGIN:VEVENT
UID:3e41ce36-57cf-11ee-a668-0aab678d0845
DTSTAMP:20230920T160330Z
SUMMARY:Board Meeting Workshop  - Jan. 2024
LOCATION:Heritage Isles Clubhouse Library\, 10630 Plantation Bay Drive\, Ta
 mpa\, Florida 33647
URL;VALUE=URI:https://www.heritageislescdd.org/calendar/4766415/board-meeti
 ng-workshop-jan-2024
DTSTART:20240103T233000Z
DTEND:20240104T003000Z
END:VEVENT
END:VCALENDAR
